BEGIN:VCALENDAR
VERSION:2.0
PRODID:-//TCB Coaching + Consulting | Milwaukie, OR - ECPv6.15.20//NONSGML v1.0//EN
CALSCALE:GREGORIAN
METHOD:PUBLISH
X-WR-CALNAME:TCB Coaching + Consulting | Milwaukie, OR
X-ORIGINAL-URL:https://www.tcbcoaching.com
X-WR-CALDESC:Events for TCB Coaching + Consulting | Milwaukie, OR
REFRESH-INTERVAL;VALUE=DURATION:PT1H
X-Robots-Tag:noindex
X-PUBLISHED-TTL:PT1H
BEGIN:VTIMEZONE
TZID:UTC
BEGIN:STANDARD
TZOFFSETFROM:+0000
TZOFFSETTO:+0000
TZNAME:UTC
DTSTART:20200101T000000
END:STANDARD
END:VTIMEZONE
BEGIN:VEVENT
DTSTART;VALUE=DATE:20210720
DTEND;VALUE=DATE:20210722
DTSTAMP:20260419T170523
CREATED:20210825T222846Z
LAST-MODIFIED:20210825T222909Z
UID:1091-1626739200-1626911999@www.tcbcoaching.com
SUMMARY:Private Law Firm Retreat
DESCRIPTION:Private Law Firm Retreat \nProgram design and on site facilitation of two day Retreat for nine attorneys and an office administrator\, in Bend\, Oregon. \n\nDay 1 – Who are We? Assessment and program based on the book\, Now\, Discover Your Strengths. Gallup\, Inc. (2020)\nDay 2 – How Should We Communicate? Program based on the book\, Nonviolent Communication: A Language of Life\, by Marshall B. Rosenberg PhD. Puddle Dancer Press. (2015)
URL:https://www.tcbcoaching.com/event/private-law-firm-retreat/
CATEGORIES:Private Event,Retreat
ATTACH;FMTTYPE=image/jpeg:https://www.tcbcoaching.com/wp-content/uploads/2021/08/retreat-pic-scaled-e1629930156383.jpg
ORGANIZER;CN="Heather Decker%2C JD":MAILTO:heather@tcbcoaching.com
END:VEVENT
BEGIN:VEVENT
DTSTART;VALUE=DATE:20210729
DTEND;VALUE=DATE:20210730
DTSTAMP:20260419T170523
CREATED:20210825T220414Z
LAST-MODIFIED:20210825T220511Z
UID:1079-1627516800-1627603199@www.tcbcoaching.com
SUMMARY:Ask the Productivity Coach: Productivity and Priorities
DESCRIPTION:Ask the Productivity Coach: Productivity and Priorities \nPrivate on line live event with the Oregon Chapter of the Association of Corporate Counsel. \n**** \nTake control of your work and life by letting priorities be your guide! \nThis one hour interactive program will be led by productivity coach Heather Decker\, J.D. and includes time for learning\, reflection and discussion. Heather is a former practicing litigation attorney and law firm manager who understands the challenges lawyers face at work and believes lawyers can have a better experience at work by managing themselves\, their time\, work and life to achieve their goals with less stress and more satisfaction. This program qualified for .75 Personal Management OSB CLE credit. \nThis seminar was available to Oregon ACC members only.
URL:https://www.tcbcoaching.com/event/ask-the-productivity-coach-productivity-and-priorities/
LOCATION:Zoom Videoconference
CATEGORIES:CLE,Private Event
ORGANIZER;CN="Heather Decker%2C JD":MAILTO:heather@tcbcoaching.com
END:VEVENT
END:VCALENDAR