BEGIN:VCALENDAR
VERSION:2.0
PRODID:-//TCB Coaching + Consulting | Milwaukie, OR - ECPv6.15.20//NONSGML v1.0//EN
CALSCALE:GREGORIAN
METHOD:PUBLISH
X-ORIGINAL-URL:https://www.tcbcoaching.com
X-WR-CALDESC:Events for TCB Coaching + Consulting | Milwaukie, OR
REFRESH-INTERVAL;VALUE=DURATION:PT1H
X-Robots-Tag:noindex
X-PUBLISHED-TTL:PT1H
BEGIN:VTIMEZONE
TZID:UTC
BEGIN:STANDARD
TZOFFSETFROM:+0000
TZOFFSETTO:+0000
TZNAME:UTC
DTSTART:20210101T000000
END:STANDARD
END:VTIMEZONE
BEGIN:VEVENT
DTSTART;VALUE=DATE:20220729
DTEND;VALUE=DATE:20220730
DTSTAMP:20260420T062145
CREATED:20220825T184350Z
LAST-MODIFIED:20220825T184350Z
UID:1257-1659052800-1659139199@www.tcbcoaching.com
SUMMARY:Private Law Firm Retreat
DESCRIPTION:Private Law Firm Retreat \nProgram design and in person facilitation of one day Retreat for 24 attorneys and an office administrator\, in Denver\, Colorado. \n 
URL:https://www.tcbcoaching.com/event/private-law-firm-retreat-2-2/
CATEGORIES:Private Event,Retreat
ORGANIZER;CN="Heather Decker%2C JD":MAILTO:heather@tcbcoaching.com
END:VEVENT
END:VCALENDAR