BEGIN:VCALENDAR
VERSION:2.0
PRODID:-//TCB Coaching + Consulting | Milwaukie, OR - ECPv6.15.20//NONSGML v1.0//EN
CALSCALE:GREGORIAN
METHOD:PUBLISH
X-WR-CALNAME:TCB Coaching + Consulting | Milwaukie, OR
X-ORIGINAL-URL:https://www.tcbcoaching.com
X-WR-CALDESC:Events for TCB Coaching + Consulting | Milwaukie, OR
REFRESH-INTERVAL;VALUE=DURATION:PT1H
X-Robots-Tag:noindex
X-PUBLISHED-TTL:PT1H
BEGIN:VTIMEZONE
TZID:UTC
BEGIN:STANDARD
TZOFFSETFROM:+0000
TZOFFSETTO:+0000
TZNAME:UTC
DTSTART:20210101T000000
END:STANDARD
END:VTIMEZONE
BEGIN:VEVENT
DTSTART;TZID=UTC:20220427T120000
DTEND;TZID=UTC:20220427T130000
DTSTAMP:20260419T220027
CREATED:20220825T181533Z
LAST-MODIFIED:20220825T182515Z
UID:1243-1651060800-1651064400@www.tcbcoaching.com
SUMMARY:Tips for Preventing and Recovering from Burnout CLE
DESCRIPTION:Multnomah Bar Association Solo & Small Firm Committee CLE:\nSo You Had a Bad Day? (Week? Month?) Tips for Preventing and Recovering from Burnout \nJoin the MBA Solo & Small Firm Committee for a CLE that addresses an issue with which many attorneys struggle – burnout. Burnout is different than stress and can result for a variety of reasons. Ongoing client demands\, constant deadlines\, compassion fatigue\, long work hours and other mental health challenges (ADHD\, depression\, and anxiety) can all contribute to burnout. Attorneys in solo or smaller firms may be more susceptible due to less availability of support from others. In addition to learning practical tips to avoid burnout\, attendees will also be provided more information to help them understand some of the more obscure issues that can cause burnout. \nOur panel includes three speakers\, two of which have been there as they practiced law for several years. They now focus their career on supporting attorneys. Bryan R. Welch is a counselor through the Oregon Attorney Assistance Program and has a wealth of knowledge on the issue of burnout that is specifically applicable to attorneys. Heather Decker\, JD\, is a former litigation attorney and now has devoted her career to working as a Productivity Coach for lawyers and service professionals. Her focus is on implementing practical strategies for lawyers to have less stress and gain more success in their career. Our panel also includes Stephanie Tucker\, MA\, MBA\, MAC\, who is experienced with many areas related to burnout\, including crisis management and crisis intervention. \nThe MBA will apply for 1 hour of OSB MCLE credit.\nOriginal webcast date: Wednesday\, April 27\, 2022\, 12-1pm\nFree for MBA Members; $30 for nonmembers. \nRecording available at: https://mbabar.org/education/solo-small-firm-workshop–so-you-had-a-bad-day-week-month-2022/
URL:https://www.tcbcoaching.com/event/tips-for-preventing-and-recovering-from-burnout-cle/
LOCATION:Zoom Videoconference
CATEGORIES:CLE
END:VEVENT
END:VCALENDAR